BEGIN:VCALENDAR
VERSION:2.0
PRODID:-//Vinterspa Januari 2026 på Clemenstorget i Lund - ECPv6.15.18//NONSGML v1.0//EN
CALSCALE:GREGORIAN
METHOD:PUBLISH
X-WR-CALNAME:Vinterspa Januari 2026 på Clemenstorget i Lund
X-ORIGINAL-URL:https://www.vinterspa.se
X-WR-CALDESC:Händelser för Vinterspa Januari 2026 på Clemenstorget i Lund
REFRESH-INTERVAL;VALUE=DURATION:PT1H
X-Robots-Tag:noindex
X-PUBLISHED-TTL:PT1H
BEGIN:VTIMEZONE
TZID:Europe/Stockholm
BEGIN:DAYLIGHT
TZOFFSETFROM:+0100
TZOFFSETTO:+0200
TZNAME:CEST
DTSTART:20250330T010000
END:DAYLIGHT
BEGIN:STANDARD
TZOFFSETFROM:+0200
TZOFFSETTO:+0100
TZNAME:CET
DTSTART:20251026T010000
END:STANDARD
BEGIN:DAYLIGHT
TZOFFSETFROM:+0100
TZOFFSETTO:+0200
TZNAME:CEST
DTSTART:20260329T010000
END:DAYLIGHT
BEGIN:STANDARD
TZOFFSETFROM:+0200
TZOFFSETTO:+0100
TZNAME:CET
DTSTART:20261025T010000
END:STANDARD
BEGIN:DAYLIGHT
TZOFFSETFROM:+0100
TZOFFSETTO:+0200
TZNAME:CEST
DTSTART:20270328T010000
END:DAYLIGHT
BEGIN:STANDARD
TZOFFSETFROM:+0200
TZOFFSETTO:+0100
TZNAME:CET
DTSTART:20271031T010000
END:STANDARD
END:VTIMEZONE
BEGIN:VTIMEZONE
TZID:Europe/Paris
BEGIN:DAYLIGHT
TZOFFSETFROM:+0100
TZOFFSETTO:+0200
TZNAME:CEST
DTSTART:20250330T010000
END:DAYLIGHT
BEGIN:STANDARD
TZOFFSETFROM:+0200
TZOFFSETTO:+0100
TZNAME:CET
DTSTART:20251026T010000
END:STANDARD
BEGIN:DAYLIGHT
TZOFFSETFROM:+0100
TZOFFSETTO:+0200
TZNAME:CEST
DTSTART:20260329T010000
END:DAYLIGHT
BEGIN:STANDARD
TZOFFSETFROM:+0200
TZOFFSETTO:+0100
TZNAME:CET
DTSTART:20261025T010000
END:STANDARD
BEGIN:DAYLIGHT
TZOFFSETFROM:+0100
TZOFFSETTO:+0200
TZNAME:CEST
DTSTART:20270328T010000
END:DAYLIGHT
BEGIN:STANDARD
TZOFFSETFROM:+0200
TZOFFSETTO:+0100
TZNAME:CET
DTSTART:20271031T010000
END:STANDARD
END:VTIMEZONE
BEGIN:VTIMEZONE
TZID:Europe/Helsinki
BEGIN:DAYLIGHT
TZOFFSETFROM:+0200
TZOFFSETTO:+0300
TZNAME:EEST
DTSTART:20250330T010000
END:DAYLIGHT
BEGIN:STANDARD
TZOFFSETFROM:+0300
TZOFFSETTO:+0200
TZNAME:EET
DTSTART:20251026T010000
END:STANDARD
BEGIN:DAYLIGHT
TZOFFSETFROM:+0200
TZOFFSETTO:+0300
TZNAME:EEST
DTSTART:20260329T010000
END:DAYLIGHT
BEGIN:STANDARD
TZOFFSETFROM:+0300
TZOFFSETTO:+0200
TZNAME:EET
DTSTART:20261025T010000
END:STANDARD
BEGIN:DAYLIGHT
TZOFFSETFROM:+0200
TZOFFSETTO:+0300
TZNAME:EEST
DTSTART:20270328T010000
END:DAYLIGHT
BEGIN:STANDARD
TZOFFSETFROM:+0300
TZOFFSETTO:+0200
TZNAME:EET
DTSTART:20271031T010000
END:STANDARD
END:VTIMEZONE
BEGIN:VEVENT
DTSTART;TZID=Europe/Stockholm:20260131T170000
DTEND;TZID=Europe/Stockholm:20260131T190000
DTSTAMP:20260422T174434
CREATED:20260108T195037Z
LAST-MODIFIED:20260108T195037Z
UID:10000038-1769878800-1769886000@www.vinterspa.se
SUMMARY:Finsk afton med film:  Midsommarnattstango
DESCRIPTION:Finsk afton med film: Midsommarnattstango \nBasta och se denna humoristiska musikfilm där argentinska tangomusiker reser till Finland för att upptäcka den finska tangon \nEn film av Viviane Blumenschein
URL:https://www.vinterspa.se/event/finsk-afton-med-film-midsommarnattstango/
LOCATION:Clemenstorget\, Lund\, Sweden
CATEGORIES:bastu,film i bastun
ATTACH;FMTTYPE=image/jpeg:https://www.vinterspa.se/wp-content/uploads/2026/01/midsommarnattstango.jpg
ORGANIZER;CN="LUMiOR":MAILTO:otto@lumior.se
END:VEVENT
BEGIN:VEVENT
DTSTART;TZID=Europe/Stockholm:20260131T150000
DTEND;TZID=Europe/Stockholm:20260131T163000
DTSTAMP:20260422T174434
CREATED:20260127T081544Z
LAST-MODIFIED:20260127T081544Z
UID:10000442-1769871600-1769877000@www.vinterspa.se
SUMMARY:Afternoon Finland
DESCRIPTION:Afternoon Finland:  \nFinska toner till bastubadet med filmen midsommarnattstango  \nEn humoristisk musikfilm där argentinska tangomusiker reser till Finland för att upptäcka den finska tangon \nEn film av Viviane Blumenschein ( 50 min) 
URL:https://www.vinterspa.se/event/afternoon-finland/
LOCATION:Clemenstorget\, Lund\, Sweden
CATEGORIES:bastu,film i bastun
ATTACH;FMTTYPE=image/jpeg:https://www.vinterspa.se/wp-content/uploads/2026/01/midsommarnattstango.jpg
ORGANIZER;CN="LUMiOR":MAILTO:otto@lumior.se
END:VEVENT
BEGIN:VEVENT
DTSTART;TZID=Europe/Stockholm:20260130T203000
DTEND;TZID=Europe/Stockholm:20260130T220000
DTSTAMP:20260422T174434
CREATED:20260119T134855Z
LAST-MODIFIED:20260119T134855Z
UID:10000055-1769805000-1769810400@www.vinterspa.se
SUMMARY:Bada bastu och dansa loss
DESCRIPTION:Bada bastu och dansa loss  \nDJ i bastun . Svettas och dansa loss till electro/dub
URL:https://www.vinterspa.se/event/bada-bastu-och-dansa-loss/
LOCATION:Clemenstorget\, Lund\, Sweden
CATEGORIES:musik i bastun
ATTACH;FMTTYPE=image/jpeg:https://www.vinterspa.se/wp-content/uploads/2026/01/electrodiscoibastun.jpg
ORGANIZER;CN="LUMiOR":MAILTO:otto@lumior.se
END:VEVENT
BEGIN:VEVENT
DTSTART;TZID=Europe/Paris:20260130T180000
DTEND;TZID=Europe/Paris:20260130T200000
DTSTAMP:20260422T174434
CREATED:20251213T194935Z
LAST-MODIFIED:20251213T194935Z
UID:10000021-1769796000-1769803200@www.vinterspa.se
SUMMARY:Diskuguss. Aufguss med disco i loungen
DESCRIPTION:Diskuguss. Aufguss med disco i loungen \nInnehåller dofter av grape och svartpeppar. Med Moa Nordberg & Guest-DJ
URL:https://www.vinterspa.se/event/diskuguss-aufguss-med-disco-i-loungen/
LOCATION:Clemenstorget\, Lund\, Sweden
CATEGORIES:aufguss
ATTACH;FMTTYPE=image/jpeg:https://www.vinterspa.se/wp-content/uploads/2025/12/disco.jpg
ORGANIZER;CN="LUMiOR":MAILTO:otto@lumior.se
END:VEVENT
BEGIN:VEVENT
DTSTART;TZID=Europe/Paris:20260129T190000
DTEND;TZID=Europe/Paris:20260129T210000
DTSTAMP:20260422T174434
CREATED:20251213T195613Z
LAST-MODIFIED:20251213T195613Z
UID:10000023-1769713200-1769720400@www.vinterspa.se
SUMMARY:Aufguss:  Vinternatt
DESCRIPTION:Aufguss:  Vinternatt – innehåller dofter av mynta och eucalyptus. Med Moa Nordberg.  
URL:https://www.vinterspa.se/event/aufguss-vinternatt-2/
LOCATION:Clemenstorget\, Lund\, Sweden
CATEGORIES:aufguss
ATTACH;FMTTYPE=image/jpeg:https://www.vinterspa.se/wp-content/uploads/2025/12/IMG_2419.jpg
ORGANIZER;CN="LUMiOR":MAILTO:otto@lumior.se
END:VEVENT
BEGIN:VEVENT
DTSTART;TZID=Europe/Stockholm:20260128T180000
DTEND;TZID=Europe/Stockholm:20260128T190000
DTSTAMP:20260422T174434
CREATED:20260125T160638Z
LAST-MODIFIED:20260125T160638Z
UID:10000441-1769623200-1769626800@www.vinterspa.se
SUMMARY:Aufguss special med  Papa Gianni
DESCRIPTION:Aufguss special med Papa Gianni \n3 överarskningsdofter på varje pass med äkta bastuolja
URL:https://www.vinterspa.se/event/aufguss-special-med-papa-gianni-6/
LOCATION:Clemenstorget\, Lund\, Sweden
CATEGORIES:aufguss
ATTACH;FMTTYPE=image/jpeg:https://www.vinterspa.se/wp-content/uploads/2026/01/Aufguss-special-med-Papa-Gianni.jpg
ORGANIZER;CN="LUMiOR":MAILTO:otto@lumior.se
END:VEVENT
BEGIN:VEVENT
DTSTART;TZID=Europe/Paris:20260127T180000
DTEND;TZID=Europe/Paris:20260127T200000
DTSTAMP:20260422T174434
CREATED:20251213T195338Z
LAST-MODIFIED:20251213T195338Z
UID:10000022-1769536800-1769544000@www.vinterspa.se
SUMMARY:Aufguss: Medelhavet
DESCRIPTION:Aufguss: Medelhavet – innehåller dofter av innehåller dofter av örter och lavendel. Med Moa Nordberg.  
URL:https://www.vinterspa.se/event/aufguss-medelhavet/
LOCATION:Clemenstorget\, Lund\, Sweden
CATEGORIES:aufguss
ATTACH;FMTTYPE=image/jpeg:https://www.vinterspa.se/wp-content/uploads/2025/12/medelhavet.jpg
ORGANIZER;CN="LUMiOR":MAILTO:otto@lumior.se
END:VEVENT
BEGIN:VEVENT
DTSTART;TZID=Europe/Stockholm:20260126T173000
DTEND;TZID=Europe/Stockholm:20260126T183000
DTSTAMP:20260422T174434
CREATED:20260121T155935Z
LAST-MODIFIED:20260121T155935Z
UID:10000059-1769448600-1769452200@www.vinterspa.se
SUMMARY:Aufguss special med  Papa Gianni
DESCRIPTION:Aufguss special med Papa Gianni \n3 överarskningsdofter på varje pass med äkta bastuolja
URL:https://www.vinterspa.se/event/aufguss-special-med-papa-gianni-5/
LOCATION:Clemenstorget\, Lund\, Sweden
CATEGORIES:aufguss
ATTACH;FMTTYPE=image/jpeg:https://www.vinterspa.se/wp-content/uploads/2026/01/Aufguss-special-med-Papa-Gianni.jpg
ORGANIZER;CN="LUMiOR":MAILTO:otto@lumior.se
END:VEVENT
BEGIN:VEVENT
DTSTART;TZID=Europe/Stockholm:20260125T190000
DTEND;TZID=Europe/Stockholm:20260125T210000
DTSTAMP:20260422T174434
CREATED:20260110T181045Z
LAST-MODIFIED:20260110T181045Z
UID:10000041-1769367600-1769374800@www.vinterspa.se
SUMMARY:Finska Basturitualer
DESCRIPTION:Finska Basturitualer \nBastubad  med inslag av finska ritualer Samtal om koppning. Finska dofter: Björk och Tjära. \nKvällen inleds med  korvgrillning kl 19. Därefter ombyte följt av bastubad c:a 19:30-21.
URL:https://www.vinterspa.se/event/finska-basturitualer-2/
LOCATION:Clemenstorget\, Lund\, Sweden
CATEGORIES:bastu,gäster i bastun
ATTACH;FMTTYPE=image/jpeg:https://www.vinterspa.se/wp-content/uploads/2026/01/IMG_3086.jpeg
ORGANIZER;CN="LUMiOR":MAILTO:otto@lumior.se
END:VEVENT
BEGIN:VEVENT
DTSTART;TZID=Europe/Stockholm:20260125T170000
DTEND;TZID=Europe/Stockholm:20260125T190000
DTSTAMP:20260422T174434
CREATED:20260107T122124Z
LAST-MODIFIED:20260107T122124Z
UID:10000037-1769360400-1769367600@www.vinterspa.se
SUMMARY:Finska Basturitualer
DESCRIPTION:Finska Basturitualer \nBastubad  med inslag av finska ritualer  \nSamtal om koppning. Finska dofter: Björk och Tjära. Kvällen avslutas med korvgrilllning
URL:https://www.vinterspa.se/event/finska-basturitualer/
LOCATION:Clemenstorget\, Lund\, Sweden
CATEGORIES:bastu,gäster i bastun
ATTACH;FMTTYPE=image/jpeg:https://www.vinterspa.se/wp-content/uploads/2026/01/IMG_3086.jpeg
ORGANIZER;CN="LUMiOR":MAILTO:otto@lumior.se
END:VEVENT
BEGIN:VEVENT
DTSTART;TZID=Europe/Paris:20260125T140000
DTEND;TZID=Europe/Paris:20260125T160000
DTSTAMP:20260422T174434
CREATED:20260102T214944Z
LAST-MODIFIED:20260102T214944Z
UID:10000029-1769349600-1769356800@www.vinterspa.se
SUMMARY:Musikalisk liveperformance
DESCRIPTION:Klangbad med med helande frekvenser 432 hz 
URL:https://www.vinterspa.se/event/musikalisk-liveperformance-2/
LOCATION:Clemenstorget\, Lund\, Sweden
CATEGORIES:musik i bastun
ATTACH;FMTTYPE=image/jpeg:https://www.vinterspa.se/wp-content/uploads/2025/11/IMG_0595.jpg
ORGANIZER;CN="LUMiOR":MAILTO:otto@lumior.se
END:VEVENT
BEGIN:VEVENT
DTSTART;TZID=Europe/Paris:20260125T110000
DTEND;TZID=Europe/Paris:20260125T120000
DTSTAMP:20260422T174434
CREATED:20260111T140049Z
LAST-MODIFIED:20260111T140049Z
UID:10000043-1769338800-1769342400@www.vinterspa.se
SUMMARY:Familjebastu för barn
DESCRIPTION:Familjebastu för barn. Välkommen med barn  \nVi håller lägre temperatur och lite kortare bastutid ( 1h)  \nmed inslag av långsamma barnprogram från 70 talet
URL:https://www.vinterspa.se/event/familjebastu-for-barn-3/
LOCATION:Clemenstorget\, Lund\, Sweden
CATEGORIES:bastu
ATTACH;FMTTYPE=image/jpeg:https://www.vinterspa.se/wp-content/uploads/2025/12/familjebastu.jpg
ORGANIZER;CN="LUMiOR":MAILTO:otto@lumior.se
END:VEVENT
BEGIN:VEVENT
DTSTART;TZID=Europe/Stockholm:20260124T210000
DTEND;TZID=Europe/Stockholm:20260124T223000
DTSTAMP:20260422T174434
CREATED:20260119T191217Z
LAST-MODIFIED:20260119T192903Z
UID:10000056-1769288400-1769293800@www.vinterspa.se
SUMMARY:Saltbastu med Soundscape från Dakar
DESCRIPTION:Saltbastu med Soundscape från Dakar  \nMeditativt soundscape  med rött ljud inspelat i nattens Dakar med saltsten från Himalaya
URL:https://www.vinterspa.se/event/saltbastu-med-soundscape-fran-dakar-3/
LOCATION:Clemenstorget\, Lund\, Sweden
CATEGORIES:bastu,musik i bastun
ATTACH;FMTTYPE=image/jpeg:https://www.vinterspa.se/wp-content/uploads/2026/01/IMG_3127-scaled.jpeg
ORGANIZER;CN="LUMiOR":MAILTO:otto@lumior.se
END:VEVENT
BEGIN:VEVENT
DTSTART;TZID=Europe/Stockholm:20260124T170000
DTEND;TZID=Europe/Stockholm:20260124T183000
DTSTAMP:20260422T174434
CREATED:20260112T181530Z
LAST-MODIFIED:20260112T181530Z
UID:10000045-1769274000-1769279400@www.vinterspa.se
SUMMARY:Saltbastu med Soundscape från Dakar
DESCRIPTION:Saltbastu med Soundscape från Dakar  \nMeditativt soundscape  med rött ljud inspelat i nattens Dakar med saltsten från Himalaya
URL:https://www.vinterspa.se/event/saltbastu-med-soundscape-fran-dakar-2/
LOCATION:Clemenstorget\, Lund\, Sweden
CATEGORIES:bastu,musik i bastun
ATTACH;FMTTYPE=image/jpeg:https://www.vinterspa.se/wp-content/uploads/2026/01/IMG_3127-scaled.jpeg
ORGANIZER;CN="LUMiOR":MAILTO:otto@lumior.se
END:VEVENT
BEGIN:VEVENT
DTSTART;TZID=Europe/Paris:20260124T140000
DTEND;TZID=Europe/Paris:20260124T160000
DTSTAMP:20260422T174434
CREATED:20251123T193608Z
LAST-MODIFIED:20251208T221612Z
UID:10000008-1769263200-1769270400@www.vinterspa.se
SUMMARY:Musikalisk liveperformance
DESCRIPTION:Klangbad med med helande frekvenser 432 hz 
URL:https://www.vinterspa.se/event/musikalisk-liveperformance/
LOCATION:Clemenstorget\, Lund\, Sweden
CATEGORIES:musik i bastun
ATTACH;FMTTYPE=image/jpeg:https://www.vinterspa.se/wp-content/uploads/2025/11/IMG_0595.jpg
ORGANIZER;CN="LUMiOR":MAILTO:otto@lumior.se
END:VEVENT
BEGIN:VEVENT
DTSTART;TZID=Europe/Stockholm:20260123T173000
DTEND;TZID=Europe/Stockholm:20260123T183000
DTSTAMP:20260422T174434
CREATED:20260113T175828Z
LAST-MODIFIED:20260113T175828Z
UID:10000050-1769189400-1769193000@www.vinterspa.se
SUMMARY:Aufguss special med  Papa Gianni
DESCRIPTION:Aufguss special med Papa Gianni \n3 överarskningsdofter på varje pass med äkta bastuolja
URL:https://www.vinterspa.se/event/aufguss-special-med-papa-gianni-4/
LOCATION:Clemenstorget\, Lund\, Sweden
CATEGORIES:aufguss
ATTACH;FMTTYPE=image/jpeg:https://www.vinterspa.se/wp-content/uploads/2026/01/Aufguss-special-med-Papa-Gianni.jpg
ORGANIZER;CN="LUMiOR":MAILTO:otto@lumior.se
END:VEVENT
BEGIN:VEVENT
DTSTART;TZID=Europe/Stockholm:20260122T183000
DTEND;TZID=Europe/Stockholm:20260122T193000
DTSTAMP:20260422T174434
CREATED:20260113T175623Z
LAST-MODIFIED:20260113T175623Z
UID:10000049-1769106600-1769110200@www.vinterspa.se
SUMMARY:Aufguss special med  Papa Gianni
DESCRIPTION:Aufguss special med Papa Gianni \n3 överarskningsdofter på varje pass med äkta bastuolja
URL:https://www.vinterspa.se/event/aufguss-special-med-papa-gianni-3/
LOCATION:Clemenstorget\, Lund\, Sweden
CATEGORIES:aufguss
ATTACH;FMTTYPE=image/jpeg:https://www.vinterspa.se/wp-content/uploads/2026/01/Aufguss-special-med-Papa-Gianni.jpg
ORGANIZER;CN="LUMiOR":MAILTO:otto@lumior.se
END:VEVENT
BEGIN:VEVENT
DTSTART;TZID=Europe/Paris:20260122T170000
DTEND;TZID=Europe/Paris:20260122T180000
DTSTAMP:20260422T174434
CREATED:20260115T135829Z
LAST-MODIFIED:20260115T135829Z
UID:10000052-1769101200-1769104800@www.vinterspa.se
SUMMARY:Bara bada bastu
DESCRIPTION:Bara bada bastu \nBastu utan krusiduller. Basta en timme för lite lägre pris 
URL:https://www.vinterspa.se/event/bara-bada-bastu-5/
LOCATION:Clemenstorget\, Lund\, Sweden
CATEGORIES:bastu
ATTACH;FMTTYPE=image/jpeg:https://www.vinterspa.se/wp-content/uploads/2025/10/bastu-koncept2.jpg
ORGANIZER;CN="LUMiOR":MAILTO:otto@lumior.se
END:VEVENT
BEGIN:VEVENT
DTSTART;TZID=Europe/Paris:20260121T113000
DTEND;TZID=Europe/Paris:20260121T133000
DTSTAMP:20260422T174434
CREATED:20260113T211446Z
LAST-MODIFIED:20260113T211446Z
UID:10000051-1768995000-1769002200@www.vinterspa.se
SUMMARY:Lunchbastu
DESCRIPTION:Lunchbastu \nVi tar med en matlåda till loungen och bastar till musik om mat 
URL:https://www.vinterspa.se/event/lunchbastu-2/
LOCATION:Clemenstorget\, Lund\, Sweden
CATEGORIES:musik i bastun
ATTACH;FMTTYPE=image/jpeg:https://www.vinterspa.se/wp-content/uploads/2026/01/lunchbastu2.jpg
ORGANIZER;CN="LUMiOR":MAILTO:otto@lumior.se
END:VEVENT
BEGIN:VEVENT
DTSTART;TZID=Europe/Stockholm:20260120T183000
DTEND;TZID=Europe/Stockholm:20260120T203000
DTSTAMP:20260422T174434
CREATED:20260112T192027Z
LAST-MODIFIED:20260116T152358Z
UID:10000046-1768933800-1768941000@www.vinterspa.se
SUMMARY:Aufguss deluxe med badmästarna Birka och Elis
DESCRIPTION:Aufguss deluxe För dig som vill ha något extra. En avslappnande meditativ kväll med badmästarna Birka och Elis  \nDet serveras svalkande smothies och ett härligt fruktfat. 
URL:https://www.vinterspa.se/event/aufguss-deluxe/
LOCATION:Clemenstorget\, Lund\, Sweden
CATEGORIES:aufguss
ATTACH;FMTTYPE=image/jpeg:https://www.vinterspa.se/wp-content/uploads/2026/01/birka-fruktfat2.jpg
ORGANIZER;CN="LUMiOR":MAILTO:otto@lumior.se
END:VEVENT
BEGIN:VEVENT
DTSTART;TZID=Europe/Stockholm:20260119T173000
DTEND;TZID=Europe/Stockholm:20260119T183000
DTSTAMP:20260422T174434
CREATED:20260113T175424Z
LAST-MODIFIED:20260113T175424Z
UID:10000048-1768843800-1768847400@www.vinterspa.se
SUMMARY:Aufguss special med  Papa Gianni
DESCRIPTION:Aufguss special med Papa Gianni \n3 överarskningsdofter på varje pass med äkta bastuolja
URL:https://www.vinterspa.se/event/aufguss-special-med-papa-gianni-2/
LOCATION:Clemenstorget\, Lund\, Sweden
CATEGORIES:aufguss
ATTACH;FMTTYPE=image/jpeg:https://www.vinterspa.se/wp-content/uploads/2026/01/Aufguss-special-med-Papa-Gianni.jpg
ORGANIZER;CN="LUMiOR":MAILTO:otto@lumior.se
END:VEVENT
BEGIN:VEVENT
DTSTART;TZID=Europe/Stockholm:20260118T183000
DTEND;TZID=Europe/Stockholm:20260118T193000
DTSTAMP:20260422T174434
CREATED:20260113T175217Z
LAST-MODIFIED:20260113T175217Z
UID:10000047-1768761000-1768764600@www.vinterspa.se
SUMMARY:Aufguss special med  Papa Gianni
DESCRIPTION:Aufguss special med Papa Gianni \n3 överarskningsdofter på varje pass med äkta bastuolja
URL:https://www.vinterspa.se/event/aufguss-special-med-papa-gianni/
LOCATION:Clemenstorget\, Lund\, Sweden
CATEGORIES:aufguss
ATTACH;FMTTYPE=image/jpeg:https://www.vinterspa.se/wp-content/uploads/2026/01/Aufguss-special-med-Papa-Gianni.jpg
ORGANIZER;CN="LUMiOR":MAILTO:otto@lumior.se
END:VEVENT
BEGIN:VEVENT
DTSTART;TZID=Europe/Stockholm:20260118T163000
DTEND;TZID=Europe/Stockholm:20260118T180000
DTSTAMP:20260422T174434
CREATED:20260109T065814Z
LAST-MODIFIED:20260109T081822Z
UID:10000039-1768753800-1768759200@www.vinterspa.se
SUMMARY:Saltbastu med Soundscape från Dakar
DESCRIPTION:Saltbastu med Soundscape från Dakar  \nMeditativt soundscape  med rött ljud inspelat i nattens Dakar med saltsten från Himalaya
URL:https://www.vinterspa.se/event/saltbastu-med-soundscape-fran-dakar/
LOCATION:Clemenstorget\, Lund\, Sweden
CATEGORIES:bastu,musik i bastun
ATTACH;FMTTYPE=image/jpeg:https://www.vinterspa.se/wp-content/uploads/2026/01/IMG_3127-scaled.jpeg
ORGANIZER;CN="LUMiOR":MAILTO:otto@lumior.se
END:VEVENT
BEGIN:VEVENT
DTSTART;TZID=Europe/Paris:20260118T140000
DTEND;TZID=Europe/Paris:20260118T160000
DTSTAMP:20260422T174434
CREATED:20251209T214825Z
LAST-MODIFIED:20251209T224835Z
UID:10000019-1768744800-1768752000@www.vinterspa.se
SUMMARY:Vinterspa de lux
DESCRIPTION:Vinterspa de lux  \nFör dig som vill ha lite extra  \nBody scrub \nFrukt och smothie \nSkogsvandring –  innehåller dofter från skogen. Med Moa Nordberg.   \nBegränsat till 12 deltagare
URL:https://www.vinterspa.se/event/aufguss-de-lux/
LOCATION:Clemenstorget\, Lund\, Sweden
CATEGORIES:aufguss
ATTACH;FMTTYPE=image/jpeg:https://www.vinterspa.se/wp-content/uploads/2025/12/lyx-aufguss.jpg
ORGANIZER;CN="LUMiOR":MAILTO:otto@lumior.se
END:VEVENT
BEGIN:VEVENT
DTSTART;TZID=Europe/Stockholm:20260117T203000
DTEND;TZID=Europe/Stockholm:20260117T220000
DTSTAMP:20260422T174434
CREATED:20260112T094620Z
LAST-MODIFIED:20260112T101419Z
UID:10000044-1768681800-1768687200@www.vinterspa.se
SUMMARY:Bada bastu med Afro och Caribbean sound
DESCRIPTION:Bada bastu med Afro och Caribbean sound  \n DJ duon Oliver och Pedde  kör hot musik för chilla gäster 
URL:https://www.vinterspa.se/event/bada-bastu-med-afro-och-caribbean-sound/
LOCATION:Clemenstorget\, Lund\, Sweden
CATEGORIES:musik i bastun
ATTACH;FMTTYPE=image/jpeg:https://www.vinterspa.se/wp-content/uploads/2026/01/reage-del2.jpg
ORGANIZER;CN="LUMiOR":MAILTO:otto@lumior.se
END:VEVENT
BEGIN:VEVENT
DTSTART;TZID=Europe/Paris:20260117T180000
DTEND;TZID=Europe/Paris:20260117T200000
DTSTAMP:20260422T174434
CREATED:20251205T105341Z
LAST-MODIFIED:20251208T221039Z
UID:10000014-1768672800-1768680000@www.vinterspa.se
SUMMARY:Aufguss med DJ:  Reggaeguss
DESCRIPTION:Aufguss med DJ:  Reggaeguss. Dansa loss efter gussen   \nInnehåller dofter av citrus\, kanel\, cederträ. Med Moa Nordberg & Guest-DJ
URL:https://www.vinterspa.se/event/aufguss-med-dj-reggaeguss/
LOCATION:Clemenstorget\, Lund\, Sweden
CATEGORIES:gäster i bastun,aufguss,musik i bastun
ATTACH;FMTTYPE=image/jpeg:https://www.vinterspa.se/wp-content/uploads/2025/12/jamaica.jpg
ORGANIZER;CN="LUMiOR":MAILTO:otto@lumior.se
END:VEVENT
BEGIN:VEVENT
DTSTART;TZID=Europe/Stockholm:20260117T130000
DTEND;TZID=Europe/Stockholm:20260117T150000
DTSTAMP:20260422T174434
CREATED:20260105T000913Z
LAST-MODIFIED:20260105T000913Z
UID:10000033-1768654800-1768662000@www.vinterspa.se
SUMMARY:Berättelser i bastun
DESCRIPTION:Berättelser i bastun \nDenna vintereftermiddag delar vi berättelser med varandra\, banala\, vardagliga\, dramatiska. Bastun blir ett rum för samtal och eftertanke\, för sagor och magi. \nTa med en egen berättelse att dela eller kom som lyssnare. 
URL:https://www.vinterspa.se/event/berattelser-i-bastun/
LOCATION:Clemenstorget\, Lund\, Sweden
CATEGORIES:bastu,gäster i bastun
ATTACH;FMTTYPE=image/jpeg:https://www.vinterspa.se/wp-content/uploads/2026/01/IMG_8914.jpg
ORGANIZER;CN="LUMiOR":MAILTO:otto@lumior.se
END:VEVENT
BEGIN:VEVENT
DTSTART;TZID=Europe/Helsinki:20260116T193000
DTEND;TZID=Europe/Helsinki:20260116T213000
DTSTAMP:20260422T174434
CREATED:20260109T082701Z
LAST-MODIFIED:20260114T091420Z
UID:10000040-1768591800-1768599000@www.vinterspa.se
SUMMARY:Fredagsmys med Filmbastu - Paraplyerna i Cherbourg 
DESCRIPTION:Bada bastu och se på film.  \nNjut av den färgsprakande fina musikalen Paraplyerna i Cherbourg \nFilmen visas parallellt i bastu och lounge vilket gör att du kan röra dig fritt mellan rummen.
URL:https://www.vinterspa.se/event/fredagsmys-med-filmbastu-paraplyerna-i-cherbourg/
LOCATION:Clemenstorget\, Lund\, Sweden
CATEGORIES:film i bastun
ATTACH;FMTTYPE=image/jpeg:https://www.vinterspa.se/wp-content/uploads/2025/11/the-umbrellas-of-cherbourg-1200-1200-675-675-crop-000000.jpg
ORGANIZER;CN="LUMiOR":MAILTO:otto@lumior.se
END:VEVENT
BEGIN:VEVENT
DTSTART;TZID=Europe/Paris:20260116T170000
DTEND;TZID=Europe/Paris:20260116T190000
DTSTAMP:20260422T174434
CREATED:20251205T102617Z
LAST-MODIFIED:20251230T105326Z
UID:10000013-1768582800-1768590000@www.vinterspa.se
SUMMARY:Vinterspa De lux
DESCRIPTION:Vinterspa De lux  \nFör dig som vill ha lite extra  Body scrub Frukt och smothie  \nSkogsvandring –  innehåller dofter från skogen. Med Moa Nordberg.   Begränsat till 12 deltagare
URL:https://www.vinterspa.se/event/vinterspa-de-lux2/
LOCATION:Clemenstorget\, Lund\, Sweden
CATEGORIES:aufguss
ATTACH;FMTTYPE=image/jpeg:https://www.vinterspa.se/wp-content/uploads/2025/11/Aufguss_Forest_Walk.jpg
ORGANIZER;CN="LUMiOR":MAILTO:otto@lumior.se
END:VEVENT
BEGIN:VEVENT
DTSTART;TZID=Europe/Paris:20260115T190000
DTEND;TZID=Europe/Paris:20260115T210000
DTSTAMP:20260422T174434
CREATED:20251203T221832Z
LAST-MODIFIED:20251208T220839Z
UID:10000012-1768503600-1768510800@www.vinterspa.se
SUMMARY:Aufguss: Vinternatt
DESCRIPTION:Aufguss: Vinternatt – innehåller dofter av mynta och eucalyptus. Med Moa Nordberg.
URL:https://www.vinterspa.se/event/aufguss-vinternatt/
LOCATION:Clemenstorget\, Lund\, Sweden
CATEGORIES:aufguss
ATTACH;FMTTYPE=image/jpeg:https://www.vinterspa.se/wp-content/uploads/2025/12/IMG_2419.jpg
ORGANIZER;CN="LUMiOR":MAILTO:otto@lumior.se
END:VEVENT
END:VCALENDAR