BEGIN:VCALENDAR
VERSION:2.0
PRODID:-//Vinterspa Januari 2026 på Clemenstorget i Lund - ECPv6.15.18//NONSGML v1.0//EN
CALSCALE:GREGORIAN
METHOD:PUBLISH
X-WR-CALNAME:Vinterspa Januari 2026 på Clemenstorget i Lund
X-ORIGINAL-URL:https://www.vinterspa.se
X-WR-CALDESC:Händelser för Vinterspa Januari 2026 på Clemenstorget i Lund
REFRESH-INTERVAL;VALUE=DURATION:PT1H
X-Robots-Tag:noindex
X-PUBLISHED-TTL:PT1H
BEGIN:VTIMEZONE
TZID:Europe/Helsinki
BEGIN:DAYLIGHT
TZOFFSETFROM:+0200
TZOFFSETTO:+0300
TZNAME:EEST
DTSTART:20250330T010000
END:DAYLIGHT
BEGIN:STANDARD
TZOFFSETFROM:+0300
TZOFFSETTO:+0200
TZNAME:EET
DTSTART:20251026T010000
END:STANDARD
BEGIN:DAYLIGHT
TZOFFSETFROM:+0200
TZOFFSETTO:+0300
TZNAME:EEST
DTSTART:20260329T010000
END:DAYLIGHT
BEGIN:STANDARD
TZOFFSETFROM:+0300
TZOFFSETTO:+0200
TZNAME:EET
DTSTART:20261025T010000
END:STANDARD
BEGIN:DAYLIGHT
TZOFFSETFROM:+0200
TZOFFSETTO:+0300
TZNAME:EEST
DTSTART:20270328T010000
END:DAYLIGHT
BEGIN:STANDARD
TZOFFSETFROM:+0300
TZOFFSETTO:+0200
TZNAME:EET
DTSTART:20271031T010000
END:STANDARD
END:VTIMEZONE
BEGIN:VTIMEZONE
TZID:Europe/Paris
BEGIN:DAYLIGHT
TZOFFSETFROM:+0100
TZOFFSETTO:+0200
TZNAME:CEST
DTSTART:20250330T010000
END:DAYLIGHT
BEGIN:STANDARD
TZOFFSETFROM:+0200
TZOFFSETTO:+0100
TZNAME:CET
DTSTART:20251026T010000
END:STANDARD
BEGIN:DAYLIGHT
TZOFFSETFROM:+0100
TZOFFSETTO:+0200
TZNAME:CEST
DTSTART:20260329T010000
END:DAYLIGHT
BEGIN:STANDARD
TZOFFSETFROM:+0200
TZOFFSETTO:+0100
TZNAME:CET
DTSTART:20261025T010000
END:STANDARD
BEGIN:DAYLIGHT
TZOFFSETFROM:+0100
TZOFFSETTO:+0200
TZNAME:CEST
DTSTART:20270328T010000
END:DAYLIGHT
BEGIN:STANDARD
TZOFFSETFROM:+0200
TZOFFSETTO:+0100
TZNAME:CET
DTSTART:20271031T010000
END:STANDARD
END:VTIMEZONE
BEGIN:VTIMEZONE
TZID:Europe/Stockholm
BEGIN:DAYLIGHT
TZOFFSETFROM:+0100
TZOFFSETTO:+0200
TZNAME:CEST
DTSTART:20250330T010000
END:DAYLIGHT
BEGIN:STANDARD
TZOFFSETFROM:+0200
TZOFFSETTO:+0100
TZNAME:CET
DTSTART:20251026T010000
END:STANDARD
BEGIN:DAYLIGHT
TZOFFSETFROM:+0100
TZOFFSETTO:+0200
TZNAME:CEST
DTSTART:20260329T010000
END:DAYLIGHT
BEGIN:STANDARD
TZOFFSETFROM:+0200
TZOFFSETTO:+0100
TZNAME:CET
DTSTART:20261025T010000
END:STANDARD
BEGIN:DAYLIGHT
TZOFFSETFROM:+0100
TZOFFSETTO:+0200
TZNAME:CEST
DTSTART:20270328T010000
END:DAYLIGHT
BEGIN:STANDARD
TZOFFSETFROM:+0200
TZOFFSETTO:+0100
TZNAME:CET
DTSTART:20271031T010000
END:STANDARD
END:VTIMEZONE
BEGIN:VEVENT
DTSTART;TZID=Europe/Helsinki:20260101T170000
DTEND;TZID=Europe/Helsinki:20260101T190000
DTSTAMP:20260422T123135
CREATED:20251004T144550Z
LAST-MODIFIED:20251111T095119Z
UID:10000001-1767286800-1767294000@www.vinterspa.se
SUMMARY:Ljusbad
DESCRIPTION:Årets första dag inviger vi med ett ljusbad av färger dimma och björkris  \nPremiär på bastu och årets första dag  \nI loungen delas förhoppningar om ett bättre år med vår lyckofe över en svalkande dryck 
URL:https://www.vinterspa.se/event/bastu/
LOCATION:Clemenstorget\, Lund\, Sweden
CATEGORIES:bastu
ATTACH;FMTTYPE=image/jpeg:https://www.vinterspa.se/wp-content/uploads/2025/10/bastu-koncept2.jpg
ORGANIZER;CN="LUMiOR":MAILTO:otto@lumior.se
END:VEVENT
BEGIN:VEVENT
DTSTART;TZID=Europe/Helsinki:20260101T200000
DTEND;TZID=Europe/Helsinki:20260101T220000
DTSTAMP:20260422T123135
CREATED:20251004T174611Z
LAST-MODIFIED:20251208T221955Z
UID:10000002-1767297600-1767304800@www.vinterspa.se
SUMMARY:Ljusbad
DESCRIPTION:Årets första dag inviger vi med ett ljusbad av färger dimma och björkris  \nPremiär på bastu och årets första dag  \nI loungen delas förhoppningar om ett bättre år med vår lyckofe över en svalkande dryck 
URL:https://www.vinterspa.se/event/bastu-2/
LOCATION:Clemenstorget\, Lund\, Sweden
CATEGORIES:bastu
ATTACH;FMTTYPE=image/jpeg:https://www.vinterspa.se/wp-content/uploads/2025/10/bastu-koncept2.jpg
ORGANIZER;CN="LUMiOR":MAILTO:otto@lumior.se
END:VEVENT
BEGIN:VEVENT
DTSTART;TZID=Europe/Helsinki:20260102T170000
DTEND;TZID=Europe/Helsinki:20260102T190000
DTSTAMP:20260422T123135
CREATED:20251111T094841Z
LAST-MODIFIED:20251208T221305Z
UID:10000003-1767373200-1767380400@www.vinterspa.se
SUMMARY:Filmbastu - Paraplyerna i Cherbourg 
DESCRIPTION:Bada bastu och se på film.  \nNjut av den färgsprakande fina musikalen Paraplyerna i Cherbourg \nFilmen visas parallellt i bastu och lounge vilket gör att du kan röra dig fritt mellan rummen.
URL:https://www.vinterspa.se/event/filmbastu/
LOCATION:Clemenstorget\, Lund\, Sweden
CATEGORIES:film i bastun
ATTACH;FMTTYPE=image/jpeg:https://www.vinterspa.se/wp-content/uploads/2025/11/the-umbrellas-of-cherbourg-1200-1200-675-675-crop-000000.jpg
ORGANIZER;CN="LUMiOR":MAILTO:otto@lumior.se
END:VEVENT
BEGIN:VEVENT
DTSTART;TZID=Europe/Helsinki:20260102T200000
DTEND;TZID=Europe/Helsinki:20260102T220000
DTSTAMP:20260422T123135
CREATED:20251230T105542Z
LAST-MODIFIED:20251230T105542Z
UID:10000024-1767384000-1767391200@www.vinterspa.se
SUMMARY:Filmbastu - Paraplyerna i Cherbourg 
DESCRIPTION:Bada bastu och se på film.  \nNjut av den färgsprakande fina musikalen Paraplyerna i Cherbourg \nFilmen visas parallellt i bastu och lounge vilket gör att du kan röra dig fritt mellan rummen.
URL:https://www.vinterspa.se/event/filmbastu-paraplyerna-i-cherbourg/
LOCATION:Clemenstorget\, Lund\, Sweden
CATEGORIES:film i bastun
ATTACH;FMTTYPE=image/jpeg:https://www.vinterspa.se/wp-content/uploads/2025/11/the-umbrellas-of-cherbourg-1200-1200-675-675-crop-000000.jpg
ORGANIZER;CN="LUMiOR":MAILTO:otto@lumior.se
END:VEVENT
BEGIN:VEVENT
DTSTART;TZID=Europe/Helsinki:20260103T140000
DTEND;TZID=Europe/Helsinki:20260103T160000
DTSTAMP:20260422T123135
CREATED:20251112T154649Z
LAST-MODIFIED:20260102T194553Z
UID:10000005-1767448800-1767456000@www.vinterspa.se
SUMMARY:Berättelser ur dimman - Tusen och en natt
DESCRIPTION:Berättelser ur dimman – Tusen och en natt \nSufisk sauna med doft av kanel\nmed Dr Akiram Blume
URL:https://www.vinterspa.se/event/berattelser-ur-dimman-tusen-och-en-natt/
LOCATION:Clemenstorget\, Lund\, Sweden
CATEGORIES:gäster i bastun
ATTACH;FMTTYPE=image/jpeg:https://www.vinterspa.se/wp-content/uploads/2025/11/IMG_2300v2.jpg
ORGANIZER;CN="LUMiOR":MAILTO:otto@lumior.se
END:VEVENT
BEGIN:VEVENT
DTSTART;TZID=Europe/Paris:20260104T140000
DTEND;TZID=Europe/Paris:20260104T160000
DTSTAMP:20260422T123135
CREATED:20251209T183932Z
LAST-MODIFIED:20260102T202048Z
UID:10000018-1767535200-1767542400@www.vinterspa.se
SUMMARY:Berättelser ur dimman - Tusen och en natt
DESCRIPTION:Berättelser ur dimman – Tusen och en natt \nSufisk sauna med doft av kanel\nmed Dr Akiram Blume
URL:https://www.vinterspa.se/event/berattelser-ur-dimman-tusen-och-en-natt-2/
LOCATION:Clemenstorget\, Lund\, Sweden
CATEGORIES:gäster i bastun
ATTACH;FMTTYPE=image/jpeg:https://www.vinterspa.se/wp-content/uploads/2025/11/IMG_2300v2.jpg
ORGANIZER;CN="LUMiOR":MAILTO:otto@lumior.se
END:VEVENT
BEGIN:VEVENT
DTSTART;TZID=Europe/Paris:20260105T173000
DTEND;TZID=Europe/Paris:20260105T183000
DTSTAMP:20260422T123135
CREATED:20260104T085049Z
LAST-MODIFIED:20260104T221530Z
UID:10000032-1767634200-1767637800@www.vinterspa.se
SUMMARY:Bara bada bastu
DESCRIPTION:Bara bada bastu \nBastu utan krusiduller. Basta en timme för lite lägre pris 
URL:https://www.vinterspa.se/event/bara-bada-bastu-2/
LOCATION:Clemenstorget\, Lund\, Sweden
CATEGORIES:bastu
ATTACH;FMTTYPE=image/jpeg:https://www.vinterspa.se/wp-content/uploads/2025/10/bastu-koncept2.jpg
ORGANIZER;CN="LUMiOR":MAILTO:otto@lumior.se
END:VEVENT
BEGIN:VEVENT
DTSTART;TZID=Europe/Paris:20260106T140000
DTEND;TZID=Europe/Paris:20260106T160000
DTSTAMP:20260422T123135
CREATED:20251123T160655Z
LAST-MODIFIED:20251123T160707Z
UID:10000006-1767708000-1767715200@www.vinterspa.se
SUMMARY:Aufguss: Skogsvandring
DESCRIPTION:Aufguss: Skogsvandring –  innehåller dofter från skogen. \nMed Moa Nordberg.
URL:https://www.vinterspa.se/event/aufguss-skogsvandring/
LOCATION:Clemenstorget\, Lund\, Sweden
CATEGORIES:aufguss
ATTACH;FMTTYPE=image/jpeg:https://www.vinterspa.se/wp-content/uploads/2025/11/Aufguss_Forest_Walk.jpg
ORGANIZER;CN="LUMiOR":MAILTO:otto@lumior.se
END:VEVENT
BEGIN:VEVENT
DTSTART;TZID=Europe/Paris:20260106T170000
DTEND;TZID=Europe/Paris:20260106T190000
DTSTAMP:20260422T123135
CREATED:20251205T163621Z
LAST-MODIFIED:20260105T001237Z
UID:10000015-1767718800-1767726000@www.vinterspa.se
SUMMARY:Bada bastu med slow-film
DESCRIPTION:Bada bastu med slow-film.  En meditativ upplevelse som komplement till bastubadet.  \nEn dock- såpa: Avsnitt: Snigelfamiljen firar jul och snigelfamiljen åker på semester.
URL:https://www.vinterspa.se/event/trettondagjul-filmvisning-i-bastun/
LOCATION:Clemenstorget\, Lund\, Sweden
CATEGORIES:film i bastun
ATTACH;FMTTYPE=image/jpeg:https://www.vinterspa.se/wp-content/uploads/2025/12/trettondagen.jpg
ORGANIZER;CN="LUMiOR":MAILTO:otto@lumior.se
END:VEVENT
BEGIN:VEVENT
DTSTART;TZID=Europe/Paris:20260107T190000
DTEND;TZID=Europe/Paris:20260107T210000
DTSTAMP:20260422T123135
CREATED:20251128T105604Z
LAST-MODIFIED:20251208T221819Z
UID:10000010-1767812400-1767819600@www.vinterspa.se
SUMMARY:Finsk afton
DESCRIPTION:Finska spelmanslåtar med dragspelaren Gösta Petersén 
URL:https://www.vinterspa.se/event/finsk-afton/
LOCATION:Clemenstorget\, Lund\, Sweden
CATEGORIES:gäster i bastun,musik i bastun
ATTACH;FMTTYPE=image/jpeg:https://www.vinterspa.se/wp-content/uploads/2025/11/finskafton.jpg
ORGANIZER;CN="LUMiOR":MAILTO:otto@lumior.se
END:VEVENT
BEGIN:VEVENT
DTSTART;TZID=Europe/Paris:20260108T180000
DTEND;TZID=Europe/Paris:20260108T200000
DTSTAMP:20260422T123135
CREATED:20260103T092610Z
LAST-MODIFIED:20260103T092610Z
UID:10000030-1767895200-1767902400@www.vinterspa.se
SUMMARY:Bastubad och svalka på torget
DESCRIPTION:Bada bastu och svalka dig på torget\, Sätt dig en stund på torget i kylan med en svalkande dryck eller ta en iskall dusch  från en vattenkanna. 
URL:https://www.vinterspa.se/event/bastubad-och-svalka-pa-torget/
LOCATION:Clemenstorget\, Lund\, Sweden
CATEGORIES:bastu
ATTACH;FMTTYPE=image/jpeg:https://www.vinterspa.se/wp-content/uploads/2026/01/IMG_8905.jpg
ORGANIZER;CN="LUMiOR":MAILTO:otto@lumior.se
END:VEVENT
BEGIN:VEVENT
DTSTART;TZID=Europe/Helsinki:20260109T170000
DTEND;TZID=Europe/Helsinki:20260109T190000
DTSTAMP:20260422T123135
CREATED:20251112T153828Z
LAST-MODIFIED:20251230T110634Z
UID:10000004-1767978000-1767985200@www.vinterspa.se
SUMMARY:Viskningar och dockrop - regissörsbesök av Stina Sturesson Svansjö
DESCRIPTION:Dockparet Sally och Sonnys äktenskap knakar i fogarna. De hyr en stuga i Skåne för att rädda det som räddas kan\, men får oväntat besök…\nEn humoristisk docksåpa.\nFilmvisning i bastun och samtal med regissören Stina Sturesson Svansjö\nFilmen visas parallellt i bastu och lounge vilket gör att du kan röra dig fritt mellan rummen.
URL:https://www.vinterspa.se/event/viskningar-och-dockrop-regissorsbesok-av-stina-sturesson-svansjo/
LOCATION:Clemenstorget\, Lund\, Sweden
CATEGORIES:film i bastun
ATTACH;FMTTYPE=image/jpeg:https://www.vinterspa.se/wp-content/uploads/2025/11/viskningar3.jpg
ORGANIZER;CN="LUMiOR":MAILTO:otto@lumior.se
END:VEVENT
BEGIN:VEVENT
DTSTART;TZID=Europe/Paris:20260110T140000
DTEND;TZID=Europe/Paris:20260110T160000
DTSTAMP:20260422T123135
CREATED:20251126T205353Z
LAST-MODIFIED:20251214T102452Z
UID:10000009-1768053600-1768060800@www.vinterspa.se
SUMMARY:Meditativ klang improvisation
DESCRIPTION:Meditativ klang improvisation under ledning av Gösta Petersén  \nVi provar tillsammans var rösterna klingar bäst inne bastun eller  i loungen eller rent av ute på verandan ut mot torget 
URL:https://www.vinterspa.se/event/meditativ-klang-improvisation/
LOCATION:Clemenstorget\, Lund\, Sweden
CATEGORIES:gäster i bastun,musik i bastun
ATTACH;FMTTYPE=image/jpeg:https://www.vinterspa.se/wp-content/uploads/2025/11/klangmedittation.jpg
ORGANIZER;CN="LUMiOR":MAILTO:otto@lumior.se
END:VEVENT
BEGIN:VEVENT
DTSTART;TZID=Europe/Paris:20260110T190000
DTEND;TZID=Europe/Paris:20260110T210000
DTSTAMP:20260422T123135
CREATED:20251230T110958Z
LAST-MODIFIED:20251230T111017Z
UID:10000028-1768071600-1768078800@www.vinterspa.se
SUMMARY:Finsk afton
DESCRIPTION:Finska spelmanslåtar med dragspelaren Gösta Petersén 
URL:https://www.vinterspa.se/event/finsk-afton-2/
LOCATION:Clemenstorget\, Lund\, Sweden
CATEGORIES:gäster i bastun,musik i bastun
ATTACH;FMTTYPE=image/jpeg:https://www.vinterspa.se/wp-content/uploads/2025/11/finskafton.jpg
ORGANIZER;CN="LUMiOR":MAILTO:otto@lumior.se
END:VEVENT
BEGIN:VEVENT
DTSTART;TZID=Europe/Paris:20260110T230000
DTEND;TZID=Europe/Paris:20260111T010000
DTSTAMP:20260422T123135
CREATED:20251128T132638Z
LAST-MODIFIED:20251214T102405Z
UID:10000011-1768086000-1768093200@www.vinterspa.se
SUMMARY:Midnattsbastu
DESCRIPTION:Meditativ klangimprovisation under ledning av Gösta Petersén  \nVi provar tillsammans var rösterna klingar bäst inne bastun eller  i loungen eller rent av ute på verandan ut mot torget 
URL:https://www.vinterspa.se/event/midnattsbastu/
LOCATION:Clemenstorget\, Lund\, Sweden
CATEGORIES:gäster i bastun,musik i bastun
ATTACH;FMTTYPE=image/jpeg:https://www.vinterspa.se/wp-content/uploads/2025/11/klangmedittation.jpg
ORGANIZER;CN="LUMiOR":MAILTO:otto@lumior.se
END:VEVENT
BEGIN:VEVENT
DTSTART;TZID=Europe/Paris:20260111T110000
DTEND;TZID=Europe/Paris:20260111T120000
DTSTAMP:20260422T123135
CREATED:20251207T180316Z
LAST-MODIFIED:20260110T092704Z
UID:10000016-1768129200-1768132800@www.vinterspa.se
SUMMARY:Familjebastu för barn
DESCRIPTION:Familjebastu för barn. Välkommen med barn  \nVi håller lägre temperatur och lite kortare bastutid ( 1h)  \nmed inslag av långsamma barnprogram från 70 talet
URL:https://www.vinterspa.se/event/familjebastu-for-barn/
LOCATION:Clemenstorget\, Lund\, Sweden
CATEGORIES:bastu
ATTACH;FMTTYPE=image/jpeg:https://www.vinterspa.se/wp-content/uploads/2025/12/familjebastu.jpg
ORGANIZER;CN="LUMiOR":MAILTO:otto@lumior.se
END:VEVENT
BEGIN:VEVENT
DTSTART;TZID=Europe/Paris:20260111T130000
DTEND;TZID=Europe/Paris:20260111T140000
DTSTAMP:20260422T123135
CREATED:20260106T190519Z
LAST-MODIFIED:20260106T190519Z
UID:10000035-1768136400-1768140000@www.vinterspa.se
SUMMARY:Familjebastu för barn
DESCRIPTION:Familjebastu för barn. Välkommen med barn  \nVi håller lägre temperatur och lite kortare bastutid ( 1h)  \nmed inslag av långsamma barnprogram från 70 talet
URL:https://www.vinterspa.se/event/familjebastu-for-barn-2/
LOCATION:Clemenstorget\, Lund\, Sweden
CATEGORIES:bastu
ATTACH;FMTTYPE=image/jpeg:https://www.vinterspa.se/wp-content/uploads/2025/12/familjebastu.jpg
ORGANIZER;CN="LUMiOR":MAILTO:otto@lumior.se
END:VEVENT
BEGIN:VEVENT
DTSTART;TZID=Europe/Paris:20260111T150000
DTEND;TZID=Europe/Paris:20260111T170000
DTSTAMP:20260422T123135
CREATED:20260103T093113Z
LAST-MODIFIED:20260110T092832Z
UID:10000031-1768143600-1768150800@www.vinterspa.se
SUMMARY:Bastubad och svalka på torget
DESCRIPTION:Bada bastu och svalka dig på torget\, Sätt dig en stund på torget i kylan med en svalkande dryck eller ta en iskall dusch  från en vattenkanna. 
URL:https://www.vinterspa.se/event/bastubad-och-svalka-pa-torget-2/
LOCATION:Clemenstorget\, Lund\, Sweden
CATEGORIES:bastu
ATTACH;FMTTYPE=image/jpeg:https://www.vinterspa.se/wp-content/uploads/2026/01/IMG_8905.jpg
ORGANIZER;CN="LUMiOR":MAILTO:otto@lumior.se
END:VEVENT
BEGIN:VEVENT
DTSTART;TZID=Europe/Paris:20260111T173000
DTEND;TZID=Europe/Paris:20260111T193000
DTSTAMP:20260422T123135
CREATED:20260106T191017Z
LAST-MODIFIED:20260107T130135Z
UID:10000036-1768152600-1768159800@www.vinterspa.se
SUMMARY:Bastubad och svalka på torget
DESCRIPTION:Bada bastu och svalka dig på torget\, Sätt dig en stund på torget i kylan med en svalkande dryck eller ta en iskall dusch  från en vattenkanna. 
URL:https://www.vinterspa.se/event/bastubad-och-svalka-pa-torget-3/
LOCATION:Clemenstorget\, Lund\, Sweden
CATEGORIES:bastu
ATTACH;FMTTYPE=image/jpeg:https://www.vinterspa.se/wp-content/uploads/2026/01/IMG_8905.jpg
ORGANIZER;CN="LUMiOR":MAILTO:otto@lumior.se
END:VEVENT
BEGIN:VEVENT
DTSTART;TZID=Europe/Paris:20260112T160000
DTEND;TZID=Europe/Paris:20260112T170000
DTSTAMP:20260422T123135
CREATED:20260105T184645Z
LAST-MODIFIED:20260105T184645Z
UID:10000034-1768233600-1768237200@www.vinterspa.se
SUMMARY:Bara bada bastu
DESCRIPTION:Bara bada bastu \nBastu utan krusiduller. Basta en timme för lite lägre pris 
URL:https://www.vinterspa.se/event/bara-bada-bastu-3/
LOCATION:Clemenstorget\, Lund\, Sweden
CATEGORIES:bastu
ATTACH;FMTTYPE=image/jpeg:https://www.vinterspa.se/wp-content/uploads/2025/10/bastu-koncept2.jpg
ORGANIZER;CN="LUMiOR":MAILTO:otto@lumior.se
END:VEVENT
BEGIN:VEVENT
DTSTART;TZID=Europe/Paris:20260113T180000
DTEND;TZID=Europe/Paris:20260113T200000
DTSTAMP:20260422T123135
CREATED:20251123T161623Z
LAST-MODIFIED:20251208T221526Z
UID:10000007-1768327200-1768334400@www.vinterspa.se
SUMMARY:Aufguss: Energigivande
DESCRIPTION:Aufguss: Energigivande – innehåller dofter av citrus och cederträd. Med Moa Nordberg.     
URL:https://www.vinterspa.se/event/aufguss-energigivande/
LOCATION:Clemenstorget\, Lund\, Sweden
CATEGORIES:aufguss
ATTACH;FMTTYPE=image/jpeg:https://www.vinterspa.se/wp-content/uploads/2025/11/Aufguss_Energizing_-_contains_the_scent_of_citrus_and_c_7bb89afb-f8db-422d-bb14-336b31c1d7a2.jpg
ORGANIZER;CN="LUMiOR":MAILTO:otto@lumior.se
END:VEVENT
BEGIN:VEVENT
DTSTART;TZID=Europe/Paris:20260114T113000
DTEND;TZID=Europe/Paris:20260114T133000
DTSTAMP:20260422T123135
CREATED:20251210T214743Z
LAST-MODIFIED:20251223T060034Z
UID:10000020-1768390200-1768397400@www.vinterspa.se
SUMMARY:Lunchbastu
DESCRIPTION:Lunchbastu \nTa med dig din lunchlåda och ät i loungen  \nFilmvisning: Snigelfamiljen håller söndagsmiddag
URL:https://www.vinterspa.se/event/lunchbastu/
LOCATION:Clemenstorget\, Lund\, Sweden
CATEGORIES:film i bastun
ATTACH;FMTTYPE=image/jpeg:https://www.vinterspa.se/wp-content/uploads/2025/12/lunchbastu.jpg
ORGANIZER;CN="LUMiOR":MAILTO:otto@lumior.se
END:VEVENT
BEGIN:VEVENT
DTSTART;TZID=Europe/Paris:20260115T173000
DTEND;TZID=Europe/Paris:20260115T183000
DTSTAMP:20260422T123135
CREATED:20260110T223547Z
LAST-MODIFIED:20260110T223547Z
UID:10000042-1768498200-1768501800@www.vinterspa.se
SUMMARY:Bara bada bastu
DESCRIPTION:Bara bada bastu \nBastu utan krusiduller. Basta en timme för lite lägre pris 
URL:https://www.vinterspa.se/event/bara-bada-bastu-4/
LOCATION:Clemenstorget\, Lund\, Sweden
CATEGORIES:bastu
ATTACH;FMTTYPE=image/jpeg:https://www.vinterspa.se/wp-content/uploads/2025/10/bastu-koncept2.jpg
ORGANIZER;CN="LUMiOR":MAILTO:otto@lumior.se
END:VEVENT
BEGIN:VEVENT
DTSTART;TZID=Europe/Paris:20260115T190000
DTEND;TZID=Europe/Paris:20260115T210000
DTSTAMP:20260422T123135
CREATED:20251203T221832Z
LAST-MODIFIED:20251208T220839Z
UID:10000012-1768503600-1768510800@www.vinterspa.se
SUMMARY:Aufguss: Vinternatt
DESCRIPTION:Aufguss: Vinternatt – innehåller dofter av mynta och eucalyptus. Med Moa Nordberg.
URL:https://www.vinterspa.se/event/aufguss-vinternatt/
LOCATION:Clemenstorget\, Lund\, Sweden
CATEGORIES:aufguss
ATTACH;FMTTYPE=image/jpeg:https://www.vinterspa.se/wp-content/uploads/2025/12/IMG_2419.jpg
ORGANIZER;CN="LUMiOR":MAILTO:otto@lumior.se
END:VEVENT
BEGIN:VEVENT
DTSTART;TZID=Europe/Paris:20260116T170000
DTEND;TZID=Europe/Paris:20260116T190000
DTSTAMP:20260422T123135
CREATED:20251205T102617Z
LAST-MODIFIED:20251230T105326Z
UID:10000013-1768582800-1768590000@www.vinterspa.se
SUMMARY:Vinterspa De lux
DESCRIPTION:Vinterspa De lux  \nFör dig som vill ha lite extra  Body scrub Frukt och smothie  \nSkogsvandring –  innehåller dofter från skogen. Med Moa Nordberg.   Begränsat till 12 deltagare
URL:https://www.vinterspa.se/event/vinterspa-de-lux2/
LOCATION:Clemenstorget\, Lund\, Sweden
CATEGORIES:aufguss
ATTACH;FMTTYPE=image/jpeg:https://www.vinterspa.se/wp-content/uploads/2025/11/Aufguss_Forest_Walk.jpg
ORGANIZER;CN="LUMiOR":MAILTO:otto@lumior.se
END:VEVENT
BEGIN:VEVENT
DTSTART;TZID=Europe/Helsinki:20260116T193000
DTEND;TZID=Europe/Helsinki:20260116T213000
DTSTAMP:20260422T123135
CREATED:20260109T082701Z
LAST-MODIFIED:20260114T091420Z
UID:10000040-1768591800-1768599000@www.vinterspa.se
SUMMARY:Fredagsmys med Filmbastu - Paraplyerna i Cherbourg 
DESCRIPTION:Bada bastu och se på film.  \nNjut av den färgsprakande fina musikalen Paraplyerna i Cherbourg \nFilmen visas parallellt i bastu och lounge vilket gör att du kan röra dig fritt mellan rummen.
URL:https://www.vinterspa.se/event/fredagsmys-med-filmbastu-paraplyerna-i-cherbourg/
LOCATION:Clemenstorget\, Lund\, Sweden
CATEGORIES:film i bastun
ATTACH;FMTTYPE=image/jpeg:https://www.vinterspa.se/wp-content/uploads/2025/11/the-umbrellas-of-cherbourg-1200-1200-675-675-crop-000000.jpg
ORGANIZER;CN="LUMiOR":MAILTO:otto@lumior.se
END:VEVENT
BEGIN:VEVENT
DTSTART;TZID=Europe/Stockholm:20260117T130000
DTEND;TZID=Europe/Stockholm:20260117T150000
DTSTAMP:20260422T123135
CREATED:20260105T000913Z
LAST-MODIFIED:20260105T000913Z
UID:10000033-1768654800-1768662000@www.vinterspa.se
SUMMARY:Berättelser i bastun
DESCRIPTION:Berättelser i bastun \nDenna vintereftermiddag delar vi berättelser med varandra\, banala\, vardagliga\, dramatiska. Bastun blir ett rum för samtal och eftertanke\, för sagor och magi. \nTa med en egen berättelse att dela eller kom som lyssnare. 
URL:https://www.vinterspa.se/event/berattelser-i-bastun/
LOCATION:Clemenstorget\, Lund\, Sweden
CATEGORIES:bastu,gäster i bastun
ATTACH;FMTTYPE=image/jpeg:https://www.vinterspa.se/wp-content/uploads/2026/01/IMG_8914.jpg
ORGANIZER;CN="LUMiOR":MAILTO:otto@lumior.se
END:VEVENT
BEGIN:VEVENT
DTSTART;TZID=Europe/Paris:20260117T180000
DTEND;TZID=Europe/Paris:20260117T200000
DTSTAMP:20260422T123135
CREATED:20251205T105341Z
LAST-MODIFIED:20251208T221039Z
UID:10000014-1768672800-1768680000@www.vinterspa.se
SUMMARY:Aufguss med DJ:  Reggaeguss
DESCRIPTION:Aufguss med DJ:  Reggaeguss. Dansa loss efter gussen   \nInnehåller dofter av citrus\, kanel\, cederträ. Med Moa Nordberg & Guest-DJ
URL:https://www.vinterspa.se/event/aufguss-med-dj-reggaeguss/
LOCATION:Clemenstorget\, Lund\, Sweden
CATEGORIES:gäster i bastun,aufguss,musik i bastun
ATTACH;FMTTYPE=image/jpeg:https://www.vinterspa.se/wp-content/uploads/2025/12/jamaica.jpg
ORGANIZER;CN="LUMiOR":MAILTO:otto@lumior.se
END:VEVENT
BEGIN:VEVENT
DTSTART;TZID=Europe/Stockholm:20260117T203000
DTEND;TZID=Europe/Stockholm:20260117T220000
DTSTAMP:20260422T123135
CREATED:20260112T094620Z
LAST-MODIFIED:20260112T101419Z
UID:10000044-1768681800-1768687200@www.vinterspa.se
SUMMARY:Bada bastu med Afro och Caribbean sound
DESCRIPTION:Bada bastu med Afro och Caribbean sound  \n DJ duon Oliver och Pedde  kör hot musik för chilla gäster 
URL:https://www.vinterspa.se/event/bada-bastu-med-afro-och-caribbean-sound/
LOCATION:Clemenstorget\, Lund\, Sweden
CATEGORIES:musik i bastun
ATTACH;FMTTYPE=image/jpeg:https://www.vinterspa.se/wp-content/uploads/2026/01/reage-del2.jpg
ORGANIZER;CN="LUMiOR":MAILTO:otto@lumior.se
END:VEVENT
BEGIN:VEVENT
DTSTART;TZID=Europe/Paris:20260118T140000
DTEND;TZID=Europe/Paris:20260118T160000
DTSTAMP:20260422T123135
CREATED:20251209T214825Z
LAST-MODIFIED:20251209T224835Z
UID:10000019-1768744800-1768752000@www.vinterspa.se
SUMMARY:Vinterspa de lux
DESCRIPTION:Vinterspa de lux  \nFör dig som vill ha lite extra  \nBody scrub \nFrukt och smothie \nSkogsvandring –  innehåller dofter från skogen. Med Moa Nordberg.   \nBegränsat till 12 deltagare
URL:https://www.vinterspa.se/event/aufguss-de-lux/
LOCATION:Clemenstorget\, Lund\, Sweden
CATEGORIES:aufguss
ATTACH;FMTTYPE=image/jpeg:https://www.vinterspa.se/wp-content/uploads/2025/12/lyx-aufguss.jpg
ORGANIZER;CN="LUMiOR":MAILTO:otto@lumior.se
END:VEVENT
END:VCALENDAR